BEGIN:VCALENDAR
VERSION:2.0
PRODID:-//Bow Bench Retreat - ECPv6.15.15//NONSGML v1.0//EN
CALSCALE:GREGORIAN
METHOD:PUBLISH
X-WR-CALNAME:Bow Bench Retreat
X-ORIGINAL-URL:https://bowbench.com
X-WR-CALDESC:Events for Bow Bench Retreat
REFRESH-INTERVAL;VALUE=DURATION:PT1H
X-Robots-Tag:noindex
X-PUBLISHED-TTL:PT1H
BEGIN:VTIMEZONE
TZID:America/Chicago
BEGIN:DAYLIGHT
TZOFFSETFROM:-0600
TZOFFSETTO:-0500
TZNAME:CDT
DTSTART:20230312T080000
END:DAYLIGHT
BEGIN:STANDARD
TZOFFSETFROM:-0500
TZOFFSETTO:-0600
TZNAME:CST
DTSTART:20231105T070000
END:STANDARD
BEGIN:DAYLIGHT
TZOFFSETFROM:-0600
TZOFFSETTO:-0500
TZNAME:CDT
DTSTART:20240310T080000
END:DAYLIGHT
BEGIN:STANDARD
TZOFFSETFROM:-0500
TZOFFSETTO:-0600
TZNAME:CST
DTSTART:20241103T070000
END:STANDARD
BEGIN:DAYLIGHT
TZOFFSETFROM:-0600
TZOFFSETTO:-0500
TZNAME:CDT
DTSTART:20250309T080000
END:DAYLIGHT
BEGIN:STANDARD
TZOFFSETFROM:-0500
TZOFFSETTO:-0600
TZNAME:CST
DTSTART:20251102T070000
END:STANDARD
END:VTIMEZONE
BEGIN:VEVENT
DTSTART;TZID=America/Chicago:20240929T130000
DTEND;TZID=America/Chicago:20240929T153000
DTSTAMP:20260422T113237
CREATED:20240709T165331Z
LAST-MODIFIED:20240726T215119Z
UID:10000557-1727614800-1727623800@bowbench.com
SUMMARY:Needle Felting Class
DESCRIPTION:Our First needle felting class was so much fun we are offering it again!! \nLearn to needle felt while creating a fox pin cushion\, In this class we will discuss supplies needed and all the basic techniques to felting. All the supplies are included\, you just ned to bring a tea cup to hold your pin cushion. Jamie with The General Bean. https://thegeneralbean.com/ will be teaching this fun class\, register early this is sure to fill up quickly. \nDate:  Sunday September 29 \nTime: 1:00 – 3:30 \nCost:  $45 \n 
URL:https://bowbench.com/event/needle-felting-class-2/
LOCATION:Bow Bench Retreat\, Range Road 260\, Carseland\, Alberta\, T0J 0M0\, Canada
CATEGORIES:Classes,Special Events
ATTACH;FMTTYPE=image/jpeg:https://bowbench.com/wp-content/uploads/2024/07/IMG_3342-Small.jpeg
GEO:50.825295;-113.469143
X-APPLE-STRUCTURED-LOCATION;VALUE=URI;X-ADDRESS=Bow Bench Retreat Range Road 260 Carseland Alberta T0J 0M0 Canada;X-APPLE-RADIUS=500;X-TITLE=Range Road 260:geo:-113.469143,50.825295
END:VEVENT
END:VCALENDAR