BEGIN:VCALENDAR
VERSION:2.0
PRODID:-//Bow Bench Retreat - ECPv6.15.15//NONSGML v1.0//EN
CALSCALE:GREGORIAN
METHOD:PUBLISH
X-ORIGINAL-URL:https://bowbench.com
X-WR-CALDESC:Events for Bow Bench Retreat
REFRESH-INTERVAL;VALUE=DURATION:PT1H
X-Robots-Tag:noindex
X-PUBLISHED-TTL:PT1H
BEGIN:VTIMEZONE
TZID:America/Chicago
BEGIN:DAYLIGHT
TZOFFSETFROM:-0600
TZOFFSETTO:-0500
TZNAME:CDT
DTSTART:20230312T080000
END:DAYLIGHT
BEGIN:STANDARD
TZOFFSETFROM:-0500
TZOFFSETTO:-0600
TZNAME:CST
DTSTART:20231105T070000
END:STANDARD
BEGIN:DAYLIGHT
TZOFFSETFROM:-0600
TZOFFSETTO:-0500
TZNAME:CDT
DTSTART:20240310T080000
END:DAYLIGHT
BEGIN:STANDARD
TZOFFSETFROM:-0500
TZOFFSETTO:-0600
TZNAME:CST
DTSTART:20241103T070000
END:STANDARD
BEGIN:DAYLIGHT
TZOFFSETFROM:-0600
TZOFFSETTO:-0500
TZNAME:CDT
DTSTART:20250309T080000
END:DAYLIGHT
BEGIN:STANDARD
TZOFFSETFROM:-0500
TZOFFSETTO:-0600
TZNAME:CST
DTSTART:20251102T070000
END:STANDARD
END:VTIMEZONE
BEGIN:VEVENT
DTSTART;TZID=America/Chicago:20240705T100000
DTEND;TZID=America/Chicago:20240705T160000
DTSTAMP:20260420T062036
CREATED:20240131T184821Z
LAST-MODIFIED:20250108T031712Z
UID:10000524-1720173600-1720195200@bowbench.com
SUMMARY:Legit Kits workshop Friday July 5
DESCRIPTION:Legit Kits puts award winning\, beautiful artistic quilts within reach of any quilter who can sew a straight line.  Crystal clear\, unparalleled patterns printed on the best foundation paper are free of Y seams and thoroughly tested by quilters ranging from beginner to expert.  Larger than needed cuts of Kona Cotton accompany every full kit\, allowing room for mistakes and leaving a colorful stash after completing your project.  https://legitkits.com/collections/patterns \nJoin Nancy as she quides you through the foundation paper pieced construction of the Legit Kit patterns.  This class is appropriate for all levels of experience\, it will be technique based as everyone will be working on a different pattern of their choice.  The workshop is 3 days\, you can choose to attend all 3 days or only the days that fit in your schedule\, if you do multiple days you are welcome to bring your RV and stay overnight in our parking area for a $10 nightly  fee\, you are welcome to leave your machines and projects overnight\, Nancy will be “teaching” each day from 10 -4\, you are welcome to come early on Saturday and Sunday and stay late to keep sewing.  Light lunch\, snacks\, coffee\, tea and water included in class fee. \nPlease advise Nancy which pattern you want her to order\, Kits are available for purchase\, ask Nancy for quotes\, since the patterns require 80+ different colors I highly recommend  you purchase a kit\, if you sign up for all 3 days there is a 20% discount on your kit and pattern  purchased through Nancy. \nClass Fee:  $50 (please register for each day separately) includes light lunch\, snacks\, coffee\, tea\, water \nPattern must be purchased for class\, patterns include foundation paper\, please order from Nancy \nKits are available for purchase at 20% discount with 3 day workshop registration.  Must be ordered at least 2 weeks prior to class \nPatterns and Kits must be ordered by May 1st. and will be delivered at class. \nClass fees are non refundable unless someone can take your spot\, a credit will be issued to be used for future classes or sew days.  Patterns and Kits are non refundable.
URL:https://bowbench.com/event/legit-kits-workshop-friday-july-5/
LOCATION:Bow Bench Retreat\, Range Road 260\, Carseland\, Alberta\, T0J 0M0\, Canada
CATEGORIES:Classes,Events,Legit Kits,Special Events
ATTACH;FMTTYPE=image/webp:https://bowbench.com/wp-content/uploads/2024/01/legit-little-hooter.webp
GEO:50.825295;-113.469143
X-APPLE-STRUCTURED-LOCATION;VALUE=URI;X-ADDRESS=Bow Bench Retreat Range Road 260 Carseland Alberta T0J 0M0 Canada;X-APPLE-RADIUS=500;X-TITLE=Range Road 260:geo:-113.469143,50.825295
END:VEVENT
END:VCALENDAR