BEGIN:VCALENDAR
VERSION:2.0
PRODID:-//Bow Bench Retreat - ECPv6.15.15//NONSGML v1.0//EN
CALSCALE:GREGORIAN
METHOD:PUBLISH
X-WR-CALNAME:Bow Bench Retreat
X-ORIGINAL-URL:https://bowbench.com
X-WR-CALDESC:Events for Bow Bench Retreat
REFRESH-INTERVAL;VALUE=DURATION:PT1H
X-Robots-Tag:noindex
X-PUBLISHED-TTL:PT1H
BEGIN:VTIMEZONE
TZID:UTC
BEGIN:STANDARD
TZOFFSETFROM:+0000
TZOFFSETTO:+0000
TZNAME:UTC
DTSTART:20240101T000000
END:STANDARD
END:VTIMEZONE
BEGIN:VTIMEZONE
TZID:America/Edmonton
BEGIN:DAYLIGHT
TZOFFSETFROM:-0700
TZOFFSETTO:-0600
TZNAME:MDT
DTSTART:20240310T090000
END:DAYLIGHT
BEGIN:STANDARD
TZOFFSETFROM:-0600
TZOFFSETTO:-0700
TZNAME:MST
DTSTART:20241103T080000
END:STANDARD
BEGIN:DAYLIGHT
TZOFFSETFROM:-0700
TZOFFSETTO:-0600
TZNAME:MDT
DTSTART:20250309T090000
END:DAYLIGHT
BEGIN:STANDARD
TZOFFSETFROM:-0600
TZOFFSETTO:-0700
TZNAME:MST
DTSTART:20251102T080000
END:STANDARD
BEGIN:DAYLIGHT
TZOFFSETFROM:-0700
TZOFFSETTO:-0600
TZNAME:MDT
DTSTART:20260308T090000
END:DAYLIGHT
BEGIN:STANDARD
TZOFFSETFROM:-0600
TZOFFSETTO:-0700
TZNAME:MST
DTSTART:20261101T080000
END:STANDARD
BEGIN:DAYLIGHT
TZOFFSETFROM:-0700
TZOFFSETTO:-0600
TZNAME:MDT
DTSTART:20270314T090000
END:DAYLIGHT
BEGIN:STANDARD
TZOFFSETFROM:-0600
TZOFFSETTO:-0700
TZNAME:MST
DTSTART:20271107T080000
END:STANDARD
END:VTIMEZONE
BEGIN:VEVENT
DTSTART;TZID=UTC:20250527T100000
DTEND;TZID=UTC:20250527T160000
DTSTAMP:20260425T224447
CREATED:20250212T172841Z
LAST-MODIFIED:20250212T172841Z
UID:10000605-1748340000-1748361600@bowbench.com
SUMMARY:Sew Day May 27
DESCRIPTION:Join us from 10 – 4 for a day of sewing\, friendship and fun! \n$20/day \n 
URL:https://bowbench.com/event/sew-day-may-27-2/
LOCATION:Bow Bench Retreat\, Range Road 260\, Carseland\, Alberta\, T0J 0M0\, Canada
CATEGORIES:Sew Days
ATTACH;FMTTYPE=image/gif:https://bowbench.com/wp-content/uploads/2019/11/Sew-Day-Square-.gif
GEO:50.825295;-113.469143
X-APPLE-STRUCTURED-LOCATION;VALUE=URI;X-ADDRESS=Bow Bench Retreat Range Road 260 Carseland Alberta T0J 0M0 Canada;X-APPLE-RADIUS=500;X-TITLE=Range Road 260:geo:-113.469143,50.825295
END:VEVENT
BEGIN:VEVENT
DTSTART;TZID=America/Edmonton:20250531T100000
DTEND;TZID=America/Edmonton:20250531T220000
DTSTAMP:20260425T224447
CREATED:20250212T173129Z
LAST-MODIFIED:20250212T173129Z
UID:10000607-1748685600-1748728800@bowbench.com
SUMMARY:Creating on the Bow - May 31
DESCRIPTION:Join us from 10 – 10 for 12 hours Creating on the Bow \n$25/day
URL:https://bowbench.com/event/creating-on-the-bow-may-31/
LOCATION:Bow Bench Retreat\, Range Road 260\, Carseland\, Alberta\, T0J 0M0\, Canada
CATEGORIES:Sew Days
ATTACH;FMTTYPE=image/gif:https://bowbench.com/wp-content/uploads/2019/01/12-Hours-Creating-on-the-Bow.gif
GEO:50.825295;-113.469143
X-APPLE-STRUCTURED-LOCATION;VALUE=URI;X-ADDRESS=Bow Bench Retreat Range Road 260 Carseland Alberta T0J 0M0 Canada;X-APPLE-RADIUS=500;X-TITLE=Range Road 260:geo:-113.469143,50.825295
END:VEVENT
BEGIN:VEVENT
DTSTART;TZID=UTC:20250603T100000
DTEND;TZID=UTC:20250603T160000
DTSTAMP:20260425T224447
CREATED:20250212T172744Z
LAST-MODIFIED:20250212T172744Z
UID:10000604-1748944800-1748966400@bowbench.com
SUMMARY:Sew Day June 3
DESCRIPTION:Join us from 10 – 4 for a day of sewing\, friendship and fun! \n$20/day \n 
URL:https://bowbench.com/event/sew-day-june-3-2/
LOCATION:Bow Bench Retreat\, Range Road 260\, Carseland\, Alberta\, T0J 0M0\, Canada
CATEGORIES:Sew Days
ATTACH;FMTTYPE=image/gif:https://bowbench.com/wp-content/uploads/2019/11/Sew-Day-Square-.gif
GEO:50.825295;-113.469143
X-APPLE-STRUCTURED-LOCATION;VALUE=URI;X-ADDRESS=Bow Bench Retreat Range Road 260 Carseland Alberta T0J 0M0 Canada;X-APPLE-RADIUS=500;X-TITLE=Range Road 260:geo:-113.469143,50.825295
END:VEVENT
BEGIN:VEVENT
DTSTART;TZID=UTC:20250610T100000
DTEND;TZID=UTC:20250610T160000
DTSTAMP:20260425T224447
CREATED:20250212T173018Z
LAST-MODIFIED:20250212T173018Z
UID:10000606-1749549600-1749571200@bowbench.com
SUMMARY:Sew Day June 10
DESCRIPTION:Join us from 10 – 4 for a day of sewing\, friendship and fun! \n$20/day \n 
URL:https://bowbench.com/event/sew-day-june-10-2/
LOCATION:Bow Bench Retreat\, Range Road 260\, Carseland\, Alberta\, T0J 0M0\, Canada
CATEGORIES:Sew Days
ATTACH;FMTTYPE=image/gif:https://bowbench.com/wp-content/uploads/2019/11/Sew-Day-Square-.gif
GEO:50.825295;-113.469143
X-APPLE-STRUCTURED-LOCATION;VALUE=URI;X-ADDRESS=Bow Bench Retreat Range Road 260 Carseland Alberta T0J 0M0 Canada;X-APPLE-RADIUS=500;X-TITLE=Range Road 260:geo:-113.469143,50.825295
END:VEVENT
BEGIN:VEVENT
DTSTART;TZID=UTC:20250617T100000
DTEND;TZID=UTC:20250617T160000
DTSTAMP:20260425T224447
CREATED:20250212T173234Z
LAST-MODIFIED:20250616T195218Z
UID:10000609-1750154400-1750176000@bowbench.com
SUMMARY:Sew Day June 17
DESCRIPTION:Join us from 10 – 4 for a day of sewing\, friendship and fun! \n$20/day \n 
URL:https://bowbench.com/event/sew-day-june-17-2/
LOCATION:Bow Bench Retreat\, Range Road 260\, Carseland\, Alberta\, T0J 0M0\, Canada
CATEGORIES:Sew Days
ATTACH;FMTTYPE=image/jpeg:https://bowbench.com/wp-content/uploads/2025/02/4DE632A1-F617-4BCD-8D5E-3D1D8449A917_1_201_a.jpeg
GEO:50.825295;-113.469143
X-APPLE-STRUCTURED-LOCATION;VALUE=URI;X-ADDRESS=Bow Bench Retreat Range Road 260 Carseland Alberta T0J 0M0 Canada;X-APPLE-RADIUS=500;X-TITLE=Range Road 260:geo:-113.469143,50.825295
END:VEVENT
BEGIN:VEVENT
DTSTART;TZID=America/Edmonton:20250621T100000
DTEND;TZID=America/Edmonton:20250621T220000
DTSTAMP:20260425T224447
CREATED:20250212T173349Z
LAST-MODIFIED:20250413T175118Z
UID:10000608-1750500000-1750543200@bowbench.com
SUMMARY:The All Canadian Quilt Along
DESCRIPTION:  \nWe will be joining in this Quilt Along by Jennifer Tyron with  http://www.homemade.ca at Bow Bench virtually to make this Canadian Classic as a quilt. We’re going to celebrate & Support our history and our future!! Class will be viewed virtually at Bow Bench Retreat. The quilt is perfect for beginners and more advanced quilters will whip this up in a day. finished size approx 92″ x 102″ Purchase your kit today see link below\, you must purchase a kit to attend the virtual sew along. \nClass Fee: $20\, stay and sew into the evening if you wish\, coffee\, tea\, water and snacks included\, please bring your own meals. \nKIT: $169 order online:  https://market.homemade.ca/products/the-all-canadian-quilt-along?utm_source=copyToPasteBoard&utm_medium=product-links&utm_conten \nKit includes; \n\nAll Canadian Supplies\nPattern by Canadian designer & local quilt shop owner Jennifer Tryon – Kingston Ontario\nFabrics by Northcott Fabrics – Vaughan Ontario (quilt top & binding fabric)\nDecobob Thread by Canada’s Wonderfil Threads – Calgary Alberta\nFabric Spray – Flatter by Soak – Mississauga\, Ontario\nCOMMEMORATIVE PIN!\n\nNote: we have not asked any of these Canadian companies for discounts to participate in this event. Instead we’re including them so that we can increase orders to them. \nSpend the day\, sew along in solidarity and support your favourite Canadian Sewing companies. \n 
URL:https://bowbench.com/event/creating-on-the-bow-june-21/
LOCATION:Bow Bench Retreat\, Range Road 260\, Carseland\, Alberta\, T0J 0M0\, Canada
CATEGORIES:Events,Sew Days,Special Events
ATTACH;FMTTYPE=image/webp:https://bowbench.com/wp-content/uploads/2025/02/canadian-sew-along-photo.webp
GEO:50.825295;-113.469143
X-APPLE-STRUCTURED-LOCATION;VALUE=URI;X-ADDRESS=Bow Bench Retreat Range Road 260 Carseland Alberta T0J 0M0 Canada;X-APPLE-RADIUS=500;X-TITLE=Range Road 260:geo:-113.469143,50.825295
END:VEVENT
BEGIN:VEVENT
DTSTART;TZID=UTC:20250624T100000
DTEND;TZID=UTC:20250624T160000
DTSTAMP:20260425T224447
CREATED:20250212T173506Z
LAST-MODIFIED:20250212T173506Z
UID:10000610-1750759200-1750780800@bowbench.com
SUMMARY:Sew Day June 24
DESCRIPTION:Join us from 10 – 4 for a day of sewing\, friendship and fun! \n$20/day \n 
URL:https://bowbench.com/event/sew-day-june-24-2/
LOCATION:Bow Bench Retreat\, Range Road 260\, Carseland\, Alberta\, T0J 0M0\, Canada
CATEGORIES:Sew Days
ATTACH;FMTTYPE=image/gif:https://bowbench.com/wp-content/uploads/2019/11/Sew-Day-Square-.gif
GEO:50.825295;-113.469143
X-APPLE-STRUCTURED-LOCATION;VALUE=URI;X-ADDRESS=Bow Bench Retreat Range Road 260 Carseland Alberta T0J 0M0 Canada;X-APPLE-RADIUS=500;X-TITLE=Range Road 260:geo:-113.469143,50.825295
END:VEVENT
BEGIN:VEVENT
DTSTART;TZID=UTC:20250715T100000
DTEND;TZID=UTC:20250715T160000
DTSTAMP:20260425T224447
CREATED:20250609T150014Z
LAST-MODIFIED:20250609T150014Z
UID:10000616-1752573600-1752595200@bowbench.com
SUMMARY:Sew Day July 15
DESCRIPTION:Join us from 10 – 4 for a day of sewing\, friendship and fun! \n$20/day \n 
URL:https://bowbench.com/event/sew-day-july-15/
LOCATION:Bow Bench Retreat\, Range Road 260\, Carseland\, Alberta\, T0J 0M0\, Canada
CATEGORIES:Sew Days
ATTACH;FMTTYPE=image/gif:https://bowbench.com/wp-content/uploads/2019/11/Sew-Day-Square-.gif
GEO:50.825295;-113.469143
X-APPLE-STRUCTURED-LOCATION;VALUE=URI;X-ADDRESS=Bow Bench Retreat Range Road 260 Carseland Alberta T0J 0M0 Canada;X-APPLE-RADIUS=500;X-TITLE=Range Road 260:geo:-113.469143,50.825295
END:VEVENT
BEGIN:VEVENT
DTSTART;TZID=UTC:20250722T100000
DTEND;TZID=UTC:20250722T160000
DTSTAMP:20260425T224447
CREATED:20250715T195900Z
LAST-MODIFIED:20250715T195900Z
UID:10000622-1753178400-1753200000@bowbench.com
SUMMARY:Sew Day July 22
DESCRIPTION:Join us from 10 – 4 for a day of sewing\, friendship and fun! \n$20/day \n 
URL:https://bowbench.com/event/sew-day-july-22/
LOCATION:Bow Bench Retreat\, Range Road 260\, Carseland\, Alberta\, T0J 0M0\, Canada
CATEGORIES:Sew Days
ATTACH;FMTTYPE=image/jpeg:https://bowbench.com/wp-content/uploads/2025/02/4DE632A1-F617-4BCD-8D5E-3D1D8449A917_1_201_a.jpeg
GEO:50.825295;-113.469143
X-APPLE-STRUCTURED-LOCATION;VALUE=URI;X-ADDRESS=Bow Bench Retreat Range Road 260 Carseland Alberta T0J 0M0 Canada;X-APPLE-RADIUS=500;X-TITLE=Range Road 260:geo:-113.469143,50.825295
END:VEVENT
BEGIN:VEVENT
DTSTART;TZID=UTC:20250729T100000
DTEND;TZID=UTC:20250729T160000
DTSTAMP:20260425T224447
CREATED:20250609T150132Z
LAST-MODIFIED:20250616T195313Z
UID:10000617-1753783200-1753804800@bowbench.com
SUMMARY:Sew Day July 29
DESCRIPTION:Join us from 10 – 4 for a day of sewing\, friendship and fun! \n$20/day \n 
URL:https://bowbench.com/event/sew-day-july-29/
LOCATION:Bow Bench Retreat\, Range Road 260\, Carseland\, Alberta\, T0J 0M0\, Canada
CATEGORIES:Sew Days
ATTACH;FMTTYPE=image/jpeg:https://bowbench.com/wp-content/uploads/2025/02/4DE632A1-F617-4BCD-8D5E-3D1D8449A917_1_201_a.jpeg
GEO:50.825295;-113.469143
X-APPLE-STRUCTURED-LOCATION;VALUE=URI;X-ADDRESS=Bow Bench Retreat Range Road 260 Carseland Alberta T0J 0M0 Canada;X-APPLE-RADIUS=500;X-TITLE=Range Road 260:geo:-113.469143,50.825295
END:VEVENT
BEGIN:VEVENT
DTSTART;TZID=UTC:20250812T100000
DTEND;TZID=UTC:20250812T160000
DTSTAMP:20260425T224447
CREATED:20250616T194837Z
LAST-MODIFIED:20250616T195335Z
UID:10000620-1754992800-1755014400@bowbench.com
SUMMARY:Sew Day August 12
DESCRIPTION:Join us from 10 – 4 for a day of sewing\, friendship and fun! \n$20/day \n 
URL:https://bowbench.com/event/sew-day-august-12/
LOCATION:Bow Bench Retreat\, Range Road 260\, Carseland\, Alberta\, T0J 0M0\, Canada
CATEGORIES:Sew Days
ATTACH;FMTTYPE=image/jpeg:https://bowbench.com/wp-content/uploads/2025/02/4DE632A1-F617-4BCD-8D5E-3D1D8449A917_1_201_a.jpeg
GEO:50.825295;-113.469143
X-APPLE-STRUCTURED-LOCATION;VALUE=URI;X-ADDRESS=Bow Bench Retreat Range Road 260 Carseland Alberta T0J 0M0 Canada;X-APPLE-RADIUS=500;X-TITLE=Range Road 260:geo:-113.469143,50.825295
END:VEVENT
BEGIN:VEVENT
DTSTART;TZID=UTC:20250826T100000
DTEND;TZID=UTC:20250826T160000
DTSTAMP:20260425T224447
CREATED:20250616T194734Z
LAST-MODIFIED:20250616T195359Z
UID:10000619-1756202400-1756224000@bowbench.com
SUMMARY:Sew Day August 26
DESCRIPTION:Join us from 10 – 4 for a day of sewing\, friendship and fun! \n$20/day \n 
URL:https://bowbench.com/event/sew-day-august-26/
LOCATION:Bow Bench Retreat\, Range Road 260\, Carseland\, Alberta\, T0J 0M0\, Canada
CATEGORIES:Sew Days
ATTACH;FMTTYPE=image/jpeg:https://bowbench.com/wp-content/uploads/2025/02/4DE632A1-F617-4BCD-8D5E-3D1D8449A917_1_201_a.jpeg
GEO:50.825295;-113.469143
X-APPLE-STRUCTURED-LOCATION;VALUE=URI;X-ADDRESS=Bow Bench Retreat Range Road 260 Carseland Alberta T0J 0M0 Canada;X-APPLE-RADIUS=500;X-TITLE=Range Road 260:geo:-113.469143,50.825295
END:VEVENT
BEGIN:VEVENT
DTSTART;TZID=UTC:20250909T100000
DTEND;TZID=UTC:20250909T160000
DTSTAMP:20260425T224447
CREATED:20250723T201443Z
LAST-MODIFIED:20250723T201443Z
UID:10000636-1757412000-1757433600@bowbench.com
SUMMARY:Sew Day September 9
DESCRIPTION:Join us from 10 – 4 for a day of sewing\, friendship and fun! \n$20/day \n 
URL:https://bowbench.com/event/sew-day-september-9/
LOCATION:Bow Bench Retreat\, Range Road 260\, Carseland\, Alberta\, T0J 0M0\, Canada
CATEGORIES:Sew Days
ATTACH;FMTTYPE=image/jpeg:https://bowbench.com/wp-content/uploads/2025/02/4DE632A1-F617-4BCD-8D5E-3D1D8449A917_1_201_a.jpeg
GEO:50.825295;-113.469143
X-APPLE-STRUCTURED-LOCATION;VALUE=URI;X-ADDRESS=Bow Bench Retreat Range Road 260 Carseland Alberta T0J 0M0 Canada;X-APPLE-RADIUS=500;X-TITLE=Range Road 260:geo:-113.469143,50.825295
END:VEVENT
BEGIN:VEVENT
DTSTART;TZID=UTC:20250930T100000
DTEND;TZID=UTC:20250930T160000
DTSTAMP:20260425T224447
CREATED:20250616T195049Z
LAST-MODIFIED:20250929T143532Z
UID:10000621-1759226400-1759248000@bowbench.com
SUMMARY:Sew Day Sept 30
DESCRIPTION:Join us from 10 – 4 for a day of sewing\, friendship and fun! \n$20/day \n 
URL:https://bowbench.com/event/sew-day-sept-30/
LOCATION:Bow Bench Retreat\, Range Road 260\, Carseland\, Alberta\, T0J 0M0\, Canada
CATEGORIES:Sew Days
ATTACH;FMTTYPE=image/jpeg:https://bowbench.com/wp-content/uploads/2025/02/4DE632A1-F617-4BCD-8D5E-3D1D8449A917_1_201_a.jpeg
GEO:50.825295;-113.469143
X-APPLE-STRUCTURED-LOCATION;VALUE=URI;X-ADDRESS=Bow Bench Retreat Range Road 260 Carseland Alberta T0J 0M0 Canada;X-APPLE-RADIUS=500;X-TITLE=Range Road 260:geo:-113.469143,50.825295
END:VEVENT
BEGIN:VEVENT
DTSTART;TZID=America/Edmonton:20251004T100000
DTEND;TZID=America/Edmonton:20251004T220000
DTSTAMP:20260425T224447
CREATED:20250723T195007Z
LAST-MODIFIED:20250930T205539Z
UID:10000628-1759572000-1759615200@bowbench.com
SUMMARY:Creating on the Bow - October 4
DESCRIPTION:Join us from 10 – 10 for 12 hours Creating on the Bow \n$25/day
URL:https://bowbench.com/event/creating-on-the-bow-october-4/
LOCATION:Bow Bench Retreat\, Range Road 260\, Carseland\, Alberta\, T0J 0M0\, Canada
CATEGORIES:Sew Days
ATTACH;FMTTYPE=image/gif:https://bowbench.com/wp-content/uploads/2019/01/12-Hours-Creating-on-the-Bow.gif
GEO:50.825295;-113.469143
X-APPLE-STRUCTURED-LOCATION;VALUE=URI;X-ADDRESS=Bow Bench Retreat Range Road 260 Carseland Alberta T0J 0M0 Canada;X-APPLE-RADIUS=500;X-TITLE=Range Road 260:geo:-113.469143,50.825295
END:VEVENT
BEGIN:VEVENT
DTSTART;TZID=UTC:20251007T100000
DTEND;TZID=UTC:20251007T160000
DTSTAMP:20260425T224447
CREATED:20250723T194746Z
LAST-MODIFIED:20250909T173106Z
UID:10000623-1759831200-1759852800@bowbench.com
SUMMARY:Sew Day October 7
DESCRIPTION:Join us from 10 – 4 for a day of sewing\, friendship and fun! \n$20/day \n 
URL:https://bowbench.com/event/sew-day-october-7/
LOCATION:Bow Bench Retreat\, Range Road 260\, Carseland\, Alberta\, T0J 0M0\, Canada
CATEGORIES:Sew Days
ATTACH;FMTTYPE=image/jpeg:https://bowbench.com/wp-content/uploads/2025/02/4DE632A1-F617-4BCD-8D5E-3D1D8449A917_1_201_a.jpeg
GEO:50.825295;-113.469143
X-APPLE-STRUCTURED-LOCATION;VALUE=URI;X-ADDRESS=Bow Bench Retreat Range Road 260 Carseland Alberta T0J 0M0 Canada;X-APPLE-RADIUS=500;X-TITLE=Range Road 260:geo:-113.469143,50.825295
END:VEVENT
BEGIN:VEVENT
DTSTART;TZID=UTC:20251014T100000
DTEND;TZID=UTC:20251014T160000
DTSTAMP:20260425T224447
CREATED:20250723T195510Z
LAST-MODIFIED:20250723T195510Z
UID:10000624-1760436000-1760457600@bowbench.com
SUMMARY:Sew Day Oct 14
DESCRIPTION:Join us from 10 – 4 for a day of sewing\, friendship and fun! \n$20/day \n 
URL:https://bowbench.com/event/sew-day-oct-14/
LOCATION:Bow Bench Retreat\, Range Road 260\, Carseland\, Alberta\, T0J 0M0\, Canada
CATEGORIES:Sew Days
ATTACH;FMTTYPE=image/jpeg:https://bowbench.com/wp-content/uploads/2025/02/4DE632A1-F617-4BCD-8D5E-3D1D8449A917_1_201_a.jpeg
GEO:50.825295;-113.469143
X-APPLE-STRUCTURED-LOCATION;VALUE=URI;X-ADDRESS=Bow Bench Retreat Range Road 260 Carseland Alberta T0J 0M0 Canada;X-APPLE-RADIUS=500;X-TITLE=Range Road 260:geo:-113.469143,50.825295
END:VEVENT
BEGIN:VEVENT
DTSTART;TZID=UTC:20251021T100000
DTEND;TZID=UTC:20251021T160000
DTSTAMP:20260425T224447
CREATED:20250723T195608Z
LAST-MODIFIED:20250723T195608Z
UID:10000625-1761040800-1761062400@bowbench.com
SUMMARY:Sew Day Oct 21
DESCRIPTION:Join us from 10 – 4 for a day of sewing\, friendship and fun! \n$20/day \n 
URL:https://bowbench.com/event/sew-day-oct-21/
LOCATION:Bow Bench Retreat\, Range Road 260\, Carseland\, Alberta\, T0J 0M0\, Canada
CATEGORIES:Sew Days
ATTACH;FMTTYPE=image/jpeg:https://bowbench.com/wp-content/uploads/2025/02/4DE632A1-F617-4BCD-8D5E-3D1D8449A917_1_201_a.jpeg
GEO:50.825295;-113.469143
X-APPLE-STRUCTURED-LOCATION;VALUE=URI;X-ADDRESS=Bow Bench Retreat Range Road 260 Carseland Alberta T0J 0M0 Canada;X-APPLE-RADIUS=500;X-TITLE=Range Road 260:geo:-113.469143,50.825295
END:VEVENT
BEGIN:VEVENT
DTSTART;TZID=America/Edmonton:20251025T100000
DTEND;TZID=America/Edmonton:20251025T220000
DTSTAMP:20260425T224447
CREATED:20250905T144103Z
LAST-MODIFIED:20250905T144103Z
UID:10000630-1761386400-1761429600@bowbench.com
SUMMARY:Creating on the Bow - October 25
DESCRIPTION:Join us from 10 – 10 for 12 hours Creating on the Bow \n$25/day
URL:https://bowbench.com/event/creating-on-the-bow-october-25/
LOCATION:Bow Bench Retreat\, Range Road 260\, Carseland\, Alberta\, T0J 0M0\, Canada
CATEGORIES:Sew Days
ATTACH;FMTTYPE=image/gif:https://bowbench.com/wp-content/uploads/2019/01/12-Hours-Creating-on-the-Bow.gif
GEO:50.825295;-113.469143
X-APPLE-STRUCTURED-LOCATION;VALUE=URI;X-ADDRESS=Bow Bench Retreat Range Road 260 Carseland Alberta T0J 0M0 Canada;X-APPLE-RADIUS=500;X-TITLE=Range Road 260:geo:-113.469143,50.825295
END:VEVENT
BEGIN:VEVENT
DTSTART;TZID=UTC:20251028T100000
DTEND;TZID=UTC:20251028T160000
DTSTAMP:20260425T224447
CREATED:20250723T195710Z
LAST-MODIFIED:20250723T195710Z
UID:10000626-1761645600-1761667200@bowbench.com
SUMMARY:Sew Day Oct 28
DESCRIPTION:Join us from 10 – 4 for a day of sewing\, friendship and fun! \n$20/day \n 
URL:https://bowbench.com/event/sew-day-oct-28/
LOCATION:Bow Bench Retreat\, Range Road 260\, Carseland\, Alberta\, T0J 0M0\, Canada
CATEGORIES:Sew Days
ATTACH;FMTTYPE=image/jpeg:https://bowbench.com/wp-content/uploads/2025/02/4DE632A1-F617-4BCD-8D5E-3D1D8449A917_1_201_a.jpeg
GEO:50.825295;-113.469143
X-APPLE-STRUCTURED-LOCATION;VALUE=URI;X-ADDRESS=Bow Bench Retreat Range Road 260 Carseland Alberta T0J 0M0 Canada;X-APPLE-RADIUS=500;X-TITLE=Range Road 260:geo:-113.469143,50.825295
END:VEVENT
BEGIN:VEVENT
DTSTART;TZID=UTC:20251104T100000
DTEND;TZID=UTC:20251104T160000
DTSTAMP:20260425T224447
CREATED:20250723T200538Z
LAST-MODIFIED:20250723T200538Z
UID:10000631-1762250400-1762272000@bowbench.com
SUMMARY:Sew Day Nov 4
DESCRIPTION:Join us from 10 – 4 for a day of sewing\, friendship and fun! \n$20/day \n 
URL:https://bowbench.com/event/sew-day-nov-4/
LOCATION:Bow Bench Retreat\, Range Road 260\, Carseland\, Alberta\, T0J 0M0\, Canada
CATEGORIES:Sew Days
ATTACH;FMTTYPE=image/jpeg:https://bowbench.com/wp-content/uploads/2025/02/4DE632A1-F617-4BCD-8D5E-3D1D8449A917_1_201_a.jpeg
GEO:50.825295;-113.469143
X-APPLE-STRUCTURED-LOCATION;VALUE=URI;X-ADDRESS=Bow Bench Retreat Range Road 260 Carseland Alberta T0J 0M0 Canada;X-APPLE-RADIUS=500;X-TITLE=Range Road 260:geo:-113.469143,50.825295
END:VEVENT
BEGIN:VEVENT
DTSTART;TZID=UTC:20251111T100000
DTEND;TZID=UTC:20251111T160000
DTSTAMP:20260425T224447
CREATED:20250723T200644Z
LAST-MODIFIED:20250723T200644Z
UID:10000632-1762855200-1762876800@bowbench.com
SUMMARY:Sew Day Nov 11
DESCRIPTION:Join us from 10 – 4 for a day of sewing\, friendship and fun! \n$20/day \n 
URL:https://bowbench.com/event/sew-day-nov-11/
LOCATION:Bow Bench Retreat\, Range Road 260\, Carseland\, Alberta\, T0J 0M0\, Canada
CATEGORIES:Sew Days
ATTACH;FMTTYPE=image/jpeg:https://bowbench.com/wp-content/uploads/2025/02/4DE632A1-F617-4BCD-8D5E-3D1D8449A917_1_201_a.jpeg
GEO:50.825295;-113.469143
X-APPLE-STRUCTURED-LOCATION;VALUE=URI;X-ADDRESS=Bow Bench Retreat Range Road 260 Carseland Alberta T0J 0M0 Canada;X-APPLE-RADIUS=500;X-TITLE=Range Road 260:geo:-113.469143,50.825295
END:VEVENT
BEGIN:VEVENT
DTSTART;TZID=America/Edmonton:20251115T100000
DTEND;TZID=America/Edmonton:20251115T220000
DTSTAMP:20260425T224447
CREATED:20250905T144830Z
LAST-MODIFIED:20250905T144830Z
UID:10000629-1763200800-1763244000@bowbench.com
SUMMARY:Creating on the Bow - Nov 15
DESCRIPTION:Join us from 10 – 10 for 12 hours Creating on the Bow \n$25/day
URL:https://bowbench.com/event/creating-on-the-bow-nov-15/
LOCATION:Bow Bench Retreat\, Range Road 260\, Carseland\, Alberta\, T0J 0M0\, Canada
CATEGORIES:Sew Days
ATTACH;FMTTYPE=image/gif:https://bowbench.com/wp-content/uploads/2019/01/12-Hours-Creating-on-the-Bow.gif
GEO:50.825295;-113.469143
X-APPLE-STRUCTURED-LOCATION;VALUE=URI;X-ADDRESS=Bow Bench Retreat Range Road 260 Carseland Alberta T0J 0M0 Canada;X-APPLE-RADIUS=500;X-TITLE=Range Road 260:geo:-113.469143,50.825295
END:VEVENT
BEGIN:VEVENT
DTSTART;TZID=UTC:20251118T100000
DTEND;TZID=UTC:20251118T160000
DTSTAMP:20260425T224447
CREATED:20250723T200754Z
LAST-MODIFIED:20251117T175002Z
UID:10000633-1763460000-1763481600@bowbench.com
SUMMARY:Sew Day Nov 18
DESCRIPTION:Join us from 10 – 4 for a day of sewing\, friendship and fun! \n$20/day \n 
URL:https://bowbench.com/event/sew-day-nov-18/
LOCATION:Bow Bench Retreat\, Range Road 260\, Carseland\, Alberta\, T0J 0M0\, Canada
CATEGORIES:Sew Days
ATTACH;FMTTYPE=image/jpeg:https://bowbench.com/wp-content/uploads/2025/02/4DE632A1-F617-4BCD-8D5E-3D1D8449A917_1_201_a.jpeg
GEO:50.825295;-113.469143
X-APPLE-STRUCTURED-LOCATION;VALUE=URI;X-ADDRESS=Bow Bench Retreat Range Road 260 Carseland Alberta T0J 0M0 Canada;X-APPLE-RADIUS=500;X-TITLE=Range Road 260:geo:-113.469143,50.825295
END:VEVENT
BEGIN:VEVENT
DTSTART;TZID=UTC:20251125T100000
DTEND;TZID=UTC:20251125T160000
DTSTAMP:20260425T224447
CREATED:20250723T200856Z
LAST-MODIFIED:20250723T200856Z
UID:10000634-1764064800-1764086400@bowbench.com
SUMMARY:Sew Day Nov 25
DESCRIPTION:Join us from 10 – 4 for a day of sewing\, friendship and fun! \n$20/day \n 
URL:https://bowbench.com/event/sew-day-nov-25/
LOCATION:Bow Bench Retreat\, Range Road 260\, Carseland\, Alberta\, T0J 0M0\, Canada
CATEGORIES:Sew Days
ATTACH;FMTTYPE=image/jpeg:https://bowbench.com/wp-content/uploads/2025/02/4DE632A1-F617-4BCD-8D5E-3D1D8449A917_1_201_a.jpeg
GEO:50.825295;-113.469143
X-APPLE-STRUCTURED-LOCATION;VALUE=URI;X-ADDRESS=Bow Bench Retreat Range Road 260 Carseland Alberta T0J 0M0 Canada;X-APPLE-RADIUS=500;X-TITLE=Range Road 260:geo:-113.469143,50.825295
END:VEVENT
BEGIN:VEVENT
DTSTART;TZID=America/Edmonton:20251129T100000
DTEND;TZID=America/Edmonton:20251129T220000
DTSTAMP:20260425T224447
CREATED:20250909T202958Z
LAST-MODIFIED:20250909T202958Z
UID:10000646-1764410400-1764453600@bowbench.com
SUMMARY:Creating on the Bow - Nov 29
DESCRIPTION:Join us from 10 – 10 for 12 hours Creating on the Bow \n$25/day
URL:https://bowbench.com/event/creating-on-the-bow-nov-29/
LOCATION:Bow Bench Retreat\, Range Road 260\, Carseland\, Alberta\, T0J 0M0\, Canada
CATEGORIES:Sew Days
ATTACH;FMTTYPE=image/gif:https://bowbench.com/wp-content/uploads/2019/01/12-Hours-Creating-on-the-Bow.gif
GEO:50.825295;-113.469143
X-APPLE-STRUCTURED-LOCATION;VALUE=URI;X-ADDRESS=Bow Bench Retreat Range Road 260 Carseland Alberta T0J 0M0 Canada;X-APPLE-RADIUS=500;X-TITLE=Range Road 260:geo:-113.469143,50.825295
END:VEVENT
BEGIN:VEVENT
DTSTART;TZID=UTC:20251202T100000
DTEND;TZID=UTC:20251202T160000
DTSTAMP:20260425T224447
CREATED:20250723T201018Z
LAST-MODIFIED:20251201T234242Z
UID:10000635-1764669600-1764691200@bowbench.com
SUMMARY:Sew Day Dec 2
DESCRIPTION:Join us from 10 – 4 for a day of sewing\, friendship and fun! \n$20/day \n 
URL:https://bowbench.com/event/sew-day-dec-2/
LOCATION:Bow Bench Retreat\, Range Road 260\, Carseland\, Alberta\, T0J 0M0\, Canada
CATEGORIES:Sew Days
ATTACH;FMTTYPE=image/jpeg:https://bowbench.com/wp-content/uploads/2025/02/4DE632A1-F617-4BCD-8D5E-3D1D8449A917_1_201_a.jpeg
GEO:50.825295;-113.469143
X-APPLE-STRUCTURED-LOCATION;VALUE=URI;X-ADDRESS=Bow Bench Retreat Range Road 260 Carseland Alberta T0J 0M0 Canada;X-APPLE-RADIUS=500;X-TITLE=Range Road 260:geo:-113.469143,50.825295
END:VEVENT
BEGIN:VEVENT
DTSTART;TZID=UTC:20251209T100000
DTEND;TZID=UTC:20251209T160000
DTSTAMP:20260425T224447
CREATED:20250723T201119Z
LAST-MODIFIED:20251201T234454Z
UID:10000627-1765274400-1765296000@bowbench.com
SUMMARY:Sew Day Dec 9
DESCRIPTION:Join us from 10 – 4 for a day of sewing\, friendship and fun! \n$20/day \n 
URL:https://bowbench.com/event/sew-day-dec-9/
LOCATION:Bow Bench Retreat\, Range Road 260\, Carseland\, Alberta\, T0J 0M0\, Canada
CATEGORIES:Sew Days
ATTACH;FMTTYPE=image/jpeg:https://bowbench.com/wp-content/uploads/2025/02/4DE632A1-F617-4BCD-8D5E-3D1D8449A917_1_201_a.jpeg
GEO:50.825295;-113.469143
X-APPLE-STRUCTURED-LOCATION;VALUE=URI;X-ADDRESS=Bow Bench Retreat Range Road 260 Carseland Alberta T0J 0M0 Canada;X-APPLE-RADIUS=500;X-TITLE=Range Road 260:geo:-113.469143,50.825295
END:VEVENT
BEGIN:VEVENT
DTSTART;TZID=UTC:20260120T100000
DTEND;TZID=UTC:20260120T160000
DTSTAMP:20260425T224447
CREATED:20251122T230925Z
LAST-MODIFIED:20251122T230925Z
UID:10000662-1768903200-1768924800@bowbench.com
SUMMARY:Sew Day Jan 20
DESCRIPTION:Join us from 10 – 4 for a day of sewing\, friendship and fun! \n$20/day \n 
URL:https://bowbench.com/event/sew-day-jan-20/
LOCATION:Bow Bench Retreat\, Range Road 260\, Carseland\, Alberta\, T0J 0M0\, Canada
CATEGORIES:Sew Days
ATTACH;FMTTYPE=image/jpeg:https://bowbench.com/wp-content/uploads/2025/02/4DE632A1-F617-4BCD-8D5E-3D1D8449A917_1_201_a.jpeg
GEO:50.825295;-113.469143
X-APPLE-STRUCTURED-LOCATION;VALUE=URI;X-ADDRESS=Bow Bench Retreat Range Road 260 Carseland Alberta T0J 0M0 Canada;X-APPLE-RADIUS=500;X-TITLE=Range Road 260:geo:-113.469143,50.825295
END:VEVENT
BEGIN:VEVENT
DTSTART;TZID=America/Edmonton:20260124T100000
DTEND;TZID=America/Edmonton:20260124T220000
DTSTAMP:20260425T224447
CREATED:20251122T230952Z
LAST-MODIFIED:20251122T230952Z
UID:10000668-1769248800-1769292000@bowbench.com
SUMMARY:Creating on the Bow - Jan 24
DESCRIPTION:Join us from 10 – 10 for 12 hours Creating on the Bow \n$25/day
URL:https://bowbench.com/event/creating-on-the-bow-jan-24/
LOCATION:Bow Bench Retreat\, Range Road 260\, Carseland\, Alberta\, T0J 0M0\, Canada
CATEGORIES:Sew Days
ATTACH;FMTTYPE=image/gif:https://bowbench.com/wp-content/uploads/2019/01/12-Hours-Creating-on-the-Bow.gif
GEO:50.825295;-113.469143
X-APPLE-STRUCTURED-LOCATION;VALUE=URI;X-ADDRESS=Bow Bench Retreat Range Road 260 Carseland Alberta T0J 0M0 Canada;X-APPLE-RADIUS=500;X-TITLE=Range Road 260:geo:-113.469143,50.825295
END:VEVENT
END:VCALENDAR