BEGIN:VCALENDAR
VERSION:2.0
PRODID:-//Bow Bench Retreat - ECPv6.15.15//NONSGML v1.0//EN
CALSCALE:GREGORIAN
METHOD:PUBLISH
X-ORIGINAL-URL:https://bowbench.com
X-WR-CALDESC:Events for Bow Bench Retreat
REFRESH-INTERVAL;VALUE=DURATION:PT1H
X-Robots-Tag:noindex
X-PUBLISHED-TTL:PT1H
BEGIN:VTIMEZONE
TZID:America/Edmonton
BEGIN:DAYLIGHT
TZOFFSETFROM:-0700
TZOFFSETTO:-0600
TZNAME:MDT
DTSTART:20200308T090000
END:DAYLIGHT
BEGIN:STANDARD
TZOFFSETFROM:-0600
TZOFFSETTO:-0700
TZNAME:MST
DTSTART:20201101T080000
END:STANDARD
BEGIN:DAYLIGHT
TZOFFSETFROM:-0700
TZOFFSETTO:-0600
TZNAME:MDT
DTSTART:20210314T090000
END:DAYLIGHT
BEGIN:STANDARD
TZOFFSETFROM:-0600
TZOFFSETTO:-0700
TZNAME:MST
DTSTART:20211107T080000
END:STANDARD
BEGIN:DAYLIGHT
TZOFFSETFROM:-0700
TZOFFSETTO:-0600
TZNAME:MDT
DTSTART:20220313T090000
END:DAYLIGHT
BEGIN:STANDARD
TZOFFSETFROM:-0600
TZOFFSETTO:-0700
TZNAME:MST
DTSTART:20221106T080000
END:STANDARD
END:VTIMEZONE
BEGIN:VEVENT
DTSTART;TZID=America/Edmonton:20211002T100000
DTEND;TZID=America/Edmonton:20211002T220000
DTSTAMP:20260424T224100
CREATED:20210314T095347Z
LAST-MODIFIED:20210728T043700Z
UID:10000328-1633168800-1633212000@bowbench.com
SUMMARY:Creating on the Bow - October 2
DESCRIPTION:Join us from 10 – 10 for 12 hours Creating on the Bow \n$25/day
URL:https://bowbench.com/event/creating-on-the-bow-june-5-2-2-2-2/
LOCATION:Bow Bench Retreat\, Range Road 260\, Carseland\, Alberta\, T0J 0M0\, Canada
CATEGORIES:Sew Days
ATTACH;FMTTYPE=image/gif:https://bowbench.com/wp-content/uploads/2019/01/12-Hours-Creating-on-the-Bow.gif
GEO:50.825295;-113.469143
X-APPLE-STRUCTURED-LOCATION;VALUE=URI;X-ADDRESS=Bow Bench Retreat Range Road 260 Carseland Alberta T0J 0M0 Canada;X-APPLE-RADIUS=500;X-TITLE=Range Road 260:geo:-113.469143,50.825295
END:VEVENT
BEGIN:VEVENT
DTSTART;TZID=America/Edmonton:20211005T100000
DTEND;TZID=America/Edmonton:20211005T160000
DTSTAMP:20260424T224100
CREATED:20210314T095347Z
LAST-MODIFIED:20210922T205715Z
UID:10000333-1633428000-1633449600@bowbench.com
SUMMARY:Sew Days - Tues Oct 5
DESCRIPTION:Join us from 10 – 4 for a day of sewing\, friendship and fun! \n$20/day \n 
URL:https://bowbench.com/event/sew-days-june-30-2-2-3-5-2-5-2/
LOCATION:Bow Bench Retreat\, Range Road 260\, Carseland\, Alberta\, T0J 0M0\, Canada
CATEGORIES:Sew Days
GEO:50.825295;-113.469143
X-APPLE-STRUCTURED-LOCATION;VALUE=URI;X-ADDRESS=Bow Bench Retreat Range Road 260 Carseland Alberta T0J 0M0 Canada;X-APPLE-RADIUS=500;X-TITLE=Range Road 260:geo:-113.469143,50.825295
END:VEVENT
BEGIN:VEVENT
DTSTART;TZID=America/Edmonton:20211012T100000
DTEND;TZID=America/Edmonton:20211012T160000
DTSTAMP:20260424T224100
CREATED:20210314T095347Z
LAST-MODIFIED:20210922T230534Z
UID:10000330-1634032800-1634054400@bowbench.com
SUMMARY:Sew Days - Oct 12
DESCRIPTION:Join us from 10 – 4 for a day of sewing\, friendship and fun! \n$20/day \n 
URL:https://bowbench.com/event/sew-days-june-30-2-2-3-5-2-5-3/
LOCATION:Bow Bench Retreat\, Range Road 260\, Carseland\, Alberta\, T0J 0M0\, Canada
CATEGORIES:Sew Days
GEO:50.825295;-113.469143
X-APPLE-STRUCTURED-LOCATION;VALUE=URI;X-ADDRESS=Bow Bench Retreat Range Road 260 Carseland Alberta T0J 0M0 Canada;X-APPLE-RADIUS=500;X-TITLE=Range Road 260:geo:-113.469143,50.825295
END:VEVENT
BEGIN:VEVENT
DTSTART;TZID=America/Edmonton:20211019T100000
DTEND;TZID=America/Edmonton:20211019T160000
DTSTAMP:20260424T224100
CREATED:20210314T095347Z
LAST-MODIFIED:20210923T032306Z
UID:10000331-1634637600-1634659200@bowbench.com
SUMMARY:Sew Days -Oct 19
DESCRIPTION:Join us from 10 – 4 for a day of sewing\, friendship and fun! \n$20/day \n 
URL:https://bowbench.com/event/sew-days-june-30-2-2-3-5-2-5-4/
LOCATION:Bow Bench Retreat\, Range Road 260\, Carseland\, Alberta\, T0J 0M0\, Canada
CATEGORIES:Sew Days
ATTACH;FMTTYPE=image/gif:https://bowbench.com/wp-content/uploads/2019/11/Sew-Day-Square-.gif
GEO:50.825295;-113.469143
X-APPLE-STRUCTURED-LOCATION;VALUE=URI;X-ADDRESS=Bow Bench Retreat Range Road 260 Carseland Alberta T0J 0M0 Canada;X-APPLE-RADIUS=500;X-TITLE=Range Road 260:geo:-113.469143,50.825295
END:VEVENT
BEGIN:VEVENT
DTSTART;TZID=America/Edmonton:20211020T100000
DTEND;TZID=America/Edmonton:20211020T160000
DTSTAMP:20260424T224100
CREATED:20210314T095347Z
LAST-MODIFIED:20210923T032143Z
UID:10000329-1634724000-1634745600@bowbench.com
SUMMARY:Sew Days - Wed Oct 20
DESCRIPTION:Join us from 10 – 4 for a day of sewing\, friendship and fun! \n$20/day \n 
URL:https://bowbench.com/event/sew-days-june-30-2-2-4-6-4/
LOCATION:Bow Bench Retreat\, Range Road 260\, Carseland\, Alberta\, T0J 0M0\, Canada
CATEGORIES:Sew Days
ATTACH;FMTTYPE=image/gif:https://bowbench.com/wp-content/uploads/2019/11/Sew-Day-Square-.gif
GEO:50.825295;-113.469143
X-APPLE-STRUCTURED-LOCATION;VALUE=URI;X-ADDRESS=Bow Bench Retreat Range Road 260 Carseland Alberta T0J 0M0 Canada;X-APPLE-RADIUS=500;X-TITLE=Range Road 260:geo:-113.469143,50.825295
END:VEVENT
BEGIN:VEVENT
DTSTART;TZID=America/Edmonton:20211026T100000
DTEND;TZID=America/Edmonton:20211026T160000
DTSTAMP:20260424T224100
CREATED:20210314T095347Z
LAST-MODIFIED:20211024T042712Z
UID:10000148-1635242400-1635264000@bowbench.com
SUMMARY:Sew Days -Oct 26
DESCRIPTION:Join us from 10 – 4 for a day of sewing\, friendship and fun! \n$20/day \n 
URL:https://bowbench.com/event/sew-days-june-30-2-2-3-5-2-5-4-2/
LOCATION:Bow Bench Retreat\, Range Road 260\, Carseland\, Alberta\, T0J 0M0\, Canada
CATEGORIES:Sew Days
ATTACH;FMTTYPE=image/gif:https://bowbench.com/wp-content/uploads/2019/11/Sew-Day-Square-.gif
GEO:50.825295;-113.469143
X-APPLE-STRUCTURED-LOCATION;VALUE=URI;X-ADDRESS=Bow Bench Retreat Range Road 260 Carseland Alberta T0J 0M0 Canada;X-APPLE-RADIUS=500;X-TITLE=Range Road 260:geo:-113.469143,50.825295
END:VEVENT
BEGIN:VEVENT
DTSTART;TZID=America/Edmonton:20211027T100000
DTEND;TZID=America/Edmonton:20211027T160000
DTSTAMP:20260424T224100
CREATED:20210314T095347Z
LAST-MODIFIED:20210923T032612Z
UID:10000138-1635328800-1635350400@bowbench.com
SUMMARY:Sew Days - Wed Oct 27
DESCRIPTION:Join us from 10 – 4 for a day of sewing\, friendship and fun! \n$20/day \n 
URL:https://bowbench.com/event/sew-days-june-30-2-2-4-6-4-2/
LOCATION:Bow Bench Retreat\, Range Road 260\, Carseland\, Alberta\, T0J 0M0\, Canada
CATEGORIES:Sew Days
ATTACH;FMTTYPE=image/gif:https://bowbench.com/wp-content/uploads/2019/11/Sew-Day-Square-.gif
GEO:50.825295;-113.469143
X-APPLE-STRUCTURED-LOCATION;VALUE=URI;X-ADDRESS=Bow Bench Retreat Range Road 260 Carseland Alberta T0J 0M0 Canada;X-APPLE-RADIUS=500;X-TITLE=Range Road 260:geo:-113.469143,50.825295
END:VEVENT
END:VCALENDAR