BEGIN:VCALENDAR
VERSION:2.0
PRODID:-//Bow Bench Retreat - ECPv6.15.15//NONSGML v1.0//EN
CALSCALE:GREGORIAN
METHOD:PUBLISH
X-WR-CALNAME:Bow Bench Retreat
X-ORIGINAL-URL:https://bowbench.com
X-WR-CALDESC:Events for Bow Bench Retreat
REFRESH-INTERVAL;VALUE=DURATION:PT1H
X-Robots-Tag:noindex
X-PUBLISHED-TTL:PT1H
BEGIN:VTIMEZONE
TZID:America/Edmonton
BEGIN:DAYLIGHT
TZOFFSETFROM:-0700
TZOFFSETTO:-0600
TZNAME:MDT
DTSTART:20210314T090000
END:DAYLIGHT
BEGIN:STANDARD
TZOFFSETFROM:-0600
TZOFFSETTO:-0700
TZNAME:MST
DTSTART:20211107T080000
END:STANDARD
BEGIN:DAYLIGHT
TZOFFSETFROM:-0700
TZOFFSETTO:-0600
TZNAME:MDT
DTSTART:20220313T090000
END:DAYLIGHT
BEGIN:STANDARD
TZOFFSETFROM:-0600
TZOFFSETTO:-0700
TZNAME:MST
DTSTART:20221106T080000
END:STANDARD
BEGIN:DAYLIGHT
TZOFFSETFROM:-0700
TZOFFSETTO:-0600
TZNAME:MDT
DTSTART:20230312T090000
END:DAYLIGHT
BEGIN:STANDARD
TZOFFSETFROM:-0600
TZOFFSETTO:-0700
TZNAME:MST
DTSTART:20231105T080000
END:STANDARD
END:VTIMEZONE
BEGIN:VTIMEZONE
TZID:UTC
BEGIN:STANDARD
TZOFFSETFROM:+0000
TZOFFSETTO:+0000
TZNAME:UTC
DTSTART:20210101T000000
END:STANDARD
END:VTIMEZONE
BEGIN:VEVENT
DTSTART;TZID=America/Edmonton:20220405T100000
DTEND;TZID=America/Edmonton:20220405T160000
DTSTAMP:20260424T125709
CREATED:20210314T095347Z
LAST-MODIFIED:20220221T043101Z
UID:10000352-1649152800-1649174400@bowbench.com
SUMMARY:Sew Days - April 5
DESCRIPTION:Join us from 10 – 4 for a day of sewing\, friendship and fun! \n$20/day \n 
URL:https://bowbench.com/event/sew-days-june-30-2-2-4-6-4-7-3-4-2/
LOCATION:Bow Bench Retreat\, Range Road 260\, Carseland\, Alberta\, T0J 0M0\, Canada
CATEGORIES:Sew Days
ATTACH;FMTTYPE=image/gif:https://bowbench.com/wp-content/uploads/2019/11/Sew-Day-Square-.gif
GEO:50.825295;-113.469143
X-APPLE-STRUCTURED-LOCATION;VALUE=URI;X-ADDRESS=Bow Bench Retreat Range Road 260 Carseland Alberta T0J 0M0 Canada;X-APPLE-RADIUS=500;X-TITLE=Range Road 260:geo:-113.469143,50.825295
END:VEVENT
BEGIN:VEVENT
DTSTART;TZID=America/Edmonton:20220412T100000
DTEND;TZID=America/Edmonton:20220412T160000
DTSTAMP:20260424T125709
CREATED:20210314T095347Z
LAST-MODIFIED:20220221T043159Z
UID:10000353-1649757600-1649779200@bowbench.com
SUMMARY:Sew Days - April 12
DESCRIPTION:Join us from 10 – 4 for a day of sewing\, friendship and fun! \n$20/day \n 
URL:https://bowbench.com/event/sew-days-june-30-2-2-4-6-4-7-3-4-3/
LOCATION:Bow Bench Retreat\, Range Road 260\, Carseland\, Alberta\, T0J 0M0\, Canada
CATEGORIES:Sew Days
ATTACH;FMTTYPE=image/gif:https://bowbench.com/wp-content/uploads/2019/11/Sew-Day-Square-.gif
GEO:50.825295;-113.469143
X-APPLE-STRUCTURED-LOCATION;VALUE=URI;X-ADDRESS=Bow Bench Retreat Range Road 260 Carseland Alberta T0J 0M0 Canada;X-APPLE-RADIUS=500;X-TITLE=Range Road 260:geo:-113.469143,50.825295
END:VEVENT
BEGIN:VEVENT
DTSTART;TZID=America/Edmonton:20220416T100000
DTEND;TZID=America/Edmonton:20220416T220000
DTSTAMP:20260424T125709
CREATED:20210314T095347Z
LAST-MODIFIED:20220221T043855Z
UID:10000351-1650103200-1650146400@bowbench.com
SUMMARY:Creating on the Bow - April 16
DESCRIPTION:Join us from 10 – 10 for 12 hours Creating on the Bow \n$25/day
URL:https://bowbench.com/event/creating-on-the-bow-june-5-2-2-2-2-2-3-2-4/
LOCATION:Bow Bench Retreat\, Range Road 260\, Carseland\, Alberta\, T0J 0M0\, Canada
CATEGORIES:Sew Days
ATTACH;FMTTYPE=image/gif:https://bowbench.com/wp-content/uploads/2019/01/12-Hours-Creating-on-the-Bow.gif
GEO:50.825295;-113.469143
X-APPLE-STRUCTURED-LOCATION;VALUE=URI;X-ADDRESS=Bow Bench Retreat Range Road 260 Carseland Alberta T0J 0M0 Canada;X-APPLE-RADIUS=500;X-TITLE=Range Road 260:geo:-113.469143,50.825295
END:VEVENT
BEGIN:VEVENT
DTSTART;TZID=America/Edmonton:20220426T100000
DTEND;TZID=America/Edmonton:20220426T160000
DTSTAMP:20260424T125709
CREATED:20210314T095347Z
LAST-MODIFIED:20220221T044136Z
UID:10000358-1650967200-1650988800@bowbench.com
SUMMARY:Sew Days -April 26
DESCRIPTION:Join us from 10 – 4 for a day of sewing\, friendship and fun! \n$20/day \n 
URL:https://bowbench.com/event/sew-days-june-30-2-2-4-6-4-7-3-4-4-2/
LOCATION:Bow Bench Retreat\, Range Road 260\, Carseland\, Alberta\, T0J 0M0\, Canada
CATEGORIES:Sew Days
ATTACH;FMTTYPE=image/gif:https://bowbench.com/wp-content/uploads/2019/11/Sew-Day-Square-.gif
GEO:50.825295;-113.469143
X-APPLE-STRUCTURED-LOCATION;VALUE=URI;X-ADDRESS=Bow Bench Retreat Range Road 260 Carseland Alberta T0J 0M0 Canada;X-APPLE-RADIUS=500;X-TITLE=Range Road 260:geo:-113.469143,50.825295
END:VEVENT
BEGIN:VEVENT
DTSTART;TZID=UTC:20220430T100000
DTEND;TZID=UTC:20220430T160000
DTSTAMP:20260424T125709
CREATED:20220327T234155Z
LAST-MODIFIED:20220328T223449Z
UID:10000409-1651312800-1651334400@bowbench.com
SUMMARY:Studio 180 Sew Days with Allison Spence
DESCRIPTION:Allison is a Certified Instructor with Studio 180 Design\, visit her website to learn more about her : https://www.meadowrosequilts.com/ \nHave you ever wanted to learn how to SPIT? Join me for 2 Studio 180 Design Sew Days.  I’ll teach you this simple trick and you’ll learn how to accurately create beautiful blocks!  In the Sew Days\, we’ll focus on a couple of the Studio 180 Design tools and I’ll show you how to use the tools and give you lots of time to put into practice what you have learned. I’ll bring extra tools to use and to purchase so you can try before you buy.  You are welcome to bring a pattern that uses one of these tools to the sew day.  I’ll help you get a good start on your next masterpiece! \nStudio 180 Design Sew Day – Tucker Trimmer and Wing Clipper: These tools from Deb Tucker at Studio 180 Design are the basis for many\, many quilt blocks.  Each tool has a specific purpose and then many variations and different ways to use them.  I’ll walk you through the tool use with a variety of demonstrations and give you individual help as you sew.  The key to using the Tucker Trimmer and the Wing Clipper are SPIT! \n\nLearn to use the Tucker Trimmer for Half Square Triangles and Quarter Square Triangles in different sizes.\nSew blocks using the Tucker Trimmer\nLearn to use the Wing Clipper for speedy Flying Geese Units in different sizes.\nSew blocks using the Wing Clipper\n\nDate:  Saturday April 30\, 2022 \nTime:  10am – 4pm \nCost:  $50
URL:https://bowbench.com/event/studio-180-sew-days-with-allison-spence/
LOCATION:Bow Bench Retreat\, Range Road 260\, Carseland\, Alberta\, T0J 0M0\, Canada
CATEGORIES:Classes,Events,Special Events
GEO:50.825295;-113.469143
X-APPLE-STRUCTURED-LOCATION;VALUE=URI;X-ADDRESS=Bow Bench Retreat Range Road 260 Carseland Alberta T0J 0M0 Canada;X-APPLE-RADIUS=500;X-TITLE=Range Road 260:geo:-113.469143,50.825295
END:VEVENT
END:VCALENDAR