BEGIN:VCALENDAR
VERSION:2.0
PRODID:-//Bow Bench Retreat - ECPv6.15.15//NONSGML v1.0//EN
CALSCALE:GREGORIAN
METHOD:PUBLISH
X-WR-CALNAME:Bow Bench Retreat
X-ORIGINAL-URL:https://bowbench.com
X-WR-CALDESC:Events for Bow Bench Retreat
REFRESH-INTERVAL;VALUE=DURATION:PT1H
X-Robots-Tag:noindex
X-PUBLISHED-TTL:PT1H
BEGIN:VTIMEZONE
TZID:America/Edmonton
BEGIN:DAYLIGHT
TZOFFSETFROM:-0700
TZOFFSETTO:-0600
TZNAME:MDT
DTSTART:20220313T090000
END:DAYLIGHT
BEGIN:STANDARD
TZOFFSETFROM:-0600
TZOFFSETTO:-0700
TZNAME:MST
DTSTART:20221106T080000
END:STANDARD
BEGIN:DAYLIGHT
TZOFFSETFROM:-0700
TZOFFSETTO:-0600
TZNAME:MDT
DTSTART:20230312T090000
END:DAYLIGHT
BEGIN:STANDARD
TZOFFSETFROM:-0600
TZOFFSETTO:-0700
TZNAME:MST
DTSTART:20231105T080000
END:STANDARD
BEGIN:DAYLIGHT
TZOFFSETFROM:-0700
TZOFFSETTO:-0600
TZNAME:MDT
DTSTART:20240310T090000
END:DAYLIGHT
BEGIN:STANDARD
TZOFFSETFROM:-0600
TZOFFSETTO:-0700
TZNAME:MST
DTSTART:20241103T080000
END:STANDARD
END:VTIMEZONE
BEGIN:VTIMEZONE
TZID:UTC
BEGIN:STANDARD
TZOFFSETFROM:+0000
TZOFFSETTO:+0000
TZNAME:UTC
DTSTART:20220101T000000
END:STANDARD
END:VTIMEZONE
BEGIN:VEVENT
DTSTART;TZID=America/Edmonton:20230204T100000
DTEND;TZID=America/Edmonton:20230204T220000
DTSTAMP:20260422T063253
CREATED:20210314T095347Z
LAST-MODIFIED:20221104T223009Z
UID:10000391-1675504800-1675548000@bowbench.com
SUMMARY:Creating on the Bow - February 4
DESCRIPTION:Join us from 10 – 10 for 12 hours Creating on the Bow \n$25/day
URL:https://bowbench.com/event/creating-on-the-bow-june-5-2-2-2-2-2-3-2-4-2-2-2-3-2-2-3/
LOCATION:Bow Bench Retreat\, Range Road 260\, Carseland\, Alberta\, T0J 0M0\, Canada
CATEGORIES:Sew Days
ATTACH;FMTTYPE=image/gif:https://bowbench.com/wp-content/uploads/2019/01/12-Hours-Creating-on-the-Bow.gif
GEO:50.825295;-113.469143
X-APPLE-STRUCTURED-LOCATION;VALUE=URI;X-ADDRESS=Bow Bench Retreat Range Road 260 Carseland Alberta T0J 0M0 Canada;X-APPLE-RADIUS=500;X-TITLE=Range Road 260:geo:-113.469143,50.825295
END:VEVENT
BEGIN:VEVENT
DTSTART;TZID=UTC:20230207T100000
DTEND;TZID=UTC:20230207T160000
DTSTAMP:20260422T063253
CREATED:20230201T023338Z
LAST-MODIFIED:20230201T023338Z
UID:10000225-1675764000-1675785600@bowbench.com
SUMMARY:Sew Days - February 7
DESCRIPTION:Join us from 10 – 4 for a day of sewing\, friendship and fun! \n$20/day \n 
URL:https://bowbench.com/event/sew-days-february-7/
LOCATION:Bow Bench Retreat\, Range Road 260\, Carseland\, Alberta\, T0J 0M0\, Canada
CATEGORIES:Sew Days
ATTACH;FMTTYPE=image/gif:https://bowbench.com/wp-content/uploads/2019/11/Sew-Day-Square-.gif
GEO:50.825295;-113.469143
X-APPLE-STRUCTURED-LOCATION;VALUE=URI;X-ADDRESS=Bow Bench Retreat Range Road 260 Carseland Alberta T0J 0M0 Canada;X-APPLE-RADIUS=500;X-TITLE=Range Road 260:geo:-113.469143,50.825295
END:VEVENT
BEGIN:VEVENT
DTSTART;TZID=UTC:20230211T100000
DTEND;TZID=UTC:20230211T160000
DTSTAMP:20260422T063253
CREATED:20220321T020955Z
LAST-MODIFIED:20221104T214035Z
UID:10000407-1676109600-1676131200@bowbench.com
SUMMARY:Charity Quilt Day - Quilts for Everyday Heroes
DESCRIPTION:  \nWe will spend the day creating quilts for the group – “Quilts for Everyday Heroes” this is the link to their website: https://www.quilts4everydayheroes.com/ \n  \nNancy will provide fabric\,  bring your machine if you want to or use one of Nancy’s.    Join us for a fun day of learning\, creating and friendship. \nDate:  Saturday\, February 11 \nTime:  10am – 4 pm \nCost:  $20 – to be used to pay for batting\, and long arming services.
URL:https://bowbench.com/event/charity-quilt-day-quilts-for-everyday-heroes-2-2-2-2-3/
LOCATION:Bow Bench Retreat\, Range Road 260\, Carseland\, Alberta\, T0J 0M0\, Canada
CATEGORIES:Special Events
ATTACH;FMTTYPE=image/jpeg:https://bowbench.com/wp-content/uploads/2022/03/60F58BE1-88DD-415D-8D5C-31CEC34212D0.jpeg
GEO:50.825295;-113.469143
X-APPLE-STRUCTURED-LOCATION;VALUE=URI;X-ADDRESS=Bow Bench Retreat Range Road 260 Carseland Alberta T0J 0M0 Canada;X-APPLE-RADIUS=500;X-TITLE=Range Road 260:geo:-113.469143,50.825295
END:VEVENT
BEGIN:VEVENT
DTSTART;TZID=UTC:20230214T100000
DTEND;TZID=UTC:20230214T160000
DTSTAMP:20260422T063253
CREATED:20230201T023720Z
LAST-MODIFIED:20230214T115414Z
UID:10000226-1676368800-1676390400@bowbench.com
SUMMARY:Sew Day February 14
DESCRIPTION:Join us from 10 – 4 for a day of sewing\, friendship and fun! \n$20/day \n 
URL:https://bowbench.com/event/sew-day-february-14/
LOCATION:Bow Bench Retreat\, Range Road 260\, Carseland\, Alberta\, T0J 0M0\, Canada
CATEGORIES:Sew Days
ATTACH;FMTTYPE=image/gif:https://bowbench.com/wp-content/uploads/2019/11/Sew-Day-Square-.gif
GEO:50.825295;-113.469143
X-APPLE-STRUCTURED-LOCATION;VALUE=URI;X-ADDRESS=Bow Bench Retreat Range Road 260 Carseland Alberta T0J 0M0 Canada;X-APPLE-RADIUS=500;X-TITLE=Range Road 260:geo:-113.469143,50.825295
END:VEVENT
BEGIN:VEVENT
DTSTART;TZID=UTC:20230221T080000
DTEND;TZID=UTC:20230221T170000
DTSTAMP:20260422T063253
CREATED:20230201T024358Z
LAST-MODIFIED:20230221T072908Z
UID:10000227-1676966400-1676998800@bowbench.com
SUMMARY:sew day cancelled due to weather
DESCRIPTION:Join us from 10 – 4 for a day of sewing\, friendship and fun! \n$20/day \n 
URL:https://bowbench.com/event/sew-days-february-21/
LOCATION:Bow Bench Retreat\, Range Road 260\, Carseland\, Alberta\, T0J 0M0\, Canada
CATEGORIES:Sew Days
ATTACH;FMTTYPE=image/gif:https://bowbench.com/wp-content/uploads/2019/11/Sew-Day-Square-.gif
GEO:50.825295;-113.469143
X-APPLE-STRUCTURED-LOCATION;VALUE=URI;X-ADDRESS=Bow Bench Retreat Range Road 260 Carseland Alberta T0J 0M0 Canada;X-APPLE-RADIUS=500;X-TITLE=Range Road 260:geo:-113.469143,50.825295
END:VEVENT
BEGIN:VEVENT
DTSTART;TZID=UTC:20230228T100000
DTEND;TZID=UTC:20230228T160000
DTSTAMP:20260422T063253
CREATED:20230201T024645Z
LAST-MODIFIED:20230228T210736Z
UID:10000218-1677578400-1677600000@bowbench.com
SUMMARY:Sew Days Feb 28
DESCRIPTION:Join us from 10 – 4 for a day of sewing\, friendship and fun! \n$20/day \n 
URL:https://bowbench.com/event/sew-days-feb-28/
LOCATION:Bow Bench Retreat\, Range Road 260\, Carseland\, Alberta\, T0J 0M0\, Canada
CATEGORIES:Sew Days
ATTACH;FMTTYPE=image/gif:https://bowbench.com/wp-content/uploads/2019/11/Sew-Day-Square-.gif
GEO:50.825295;-113.469143
X-APPLE-STRUCTURED-LOCATION;VALUE=URI;X-ADDRESS=Bow Bench Retreat Range Road 260 Carseland Alberta T0J 0M0 Canada;X-APPLE-RADIUS=500;X-TITLE=Range Road 260:geo:-113.469143,50.825295
END:VEVENT
END:VCALENDAR