BEGIN:VCALENDAR
VERSION:2.0
PRODID:-//Bow Bench Retreat - ECPv6.15.15//NONSGML v1.0//EN
CALSCALE:GREGORIAN
METHOD:PUBLISH
X-ORIGINAL-URL:https://bowbench.com
X-WR-CALDESC:Events for Bow Bench Retreat
REFRESH-INTERVAL;VALUE=DURATION:PT1H
X-Robots-Tag:noindex
X-PUBLISHED-TTL:PT1H
BEGIN:VTIMEZONE
TZID:UTC
BEGIN:STANDARD
TZOFFSETFROM:+0000
TZOFFSETTO:+0000
TZNAME:UTC
DTSTART:20210101T000000
END:STANDARD
END:VTIMEZONE
BEGIN:VTIMEZONE
TZID:America/Edmonton
BEGIN:DAYLIGHT
TZOFFSETFROM:-0700
TZOFFSETTO:-0600
TZNAME:MDT
DTSTART:20210314T090000
END:DAYLIGHT
BEGIN:STANDARD
TZOFFSETFROM:-0600
TZOFFSETTO:-0700
TZNAME:MST
DTSTART:20211107T080000
END:STANDARD
BEGIN:DAYLIGHT
TZOFFSETFROM:-0700
TZOFFSETTO:-0600
TZNAME:MDT
DTSTART:20220313T090000
END:DAYLIGHT
BEGIN:STANDARD
TZOFFSETFROM:-0600
TZOFFSETTO:-0700
TZNAME:MST
DTSTART:20221106T080000
END:STANDARD
BEGIN:DAYLIGHT
TZOFFSETFROM:-0700
TZOFFSETTO:-0600
TZNAME:MDT
DTSTART:20230312T090000
END:DAYLIGHT
BEGIN:STANDARD
TZOFFSETFROM:-0600
TZOFFSETTO:-0700
TZNAME:MST
DTSTART:20231105T080000
END:STANDARD
END:VTIMEZONE
BEGIN:VEVENT
DTSTART;TZID=UTC:20220808T100000
DTEND;TZID=UTC:20220808T160000
DTSTAMP:20260424T094316
CREATED:20220321T022507Z
LAST-MODIFIED:20220321T022507Z
UID:10000216-1659952800-1659974400@bowbench.com
SUMMARY:Boho Heart Sew Along #6 -  August 8
DESCRIPTION:Nancy has taken this beautiful pattern by Jen Kingwell and organized it into 8 classes\, during the classes she will show you different techniques to make the blocks\, and has also adapted some blocks for foundation paper piecing.  When you register for the first class there is a one time registration fee of $30  to cover the cost of materials\, and then the fee for every class  is $30\, this is required even if you cannot attend in person as  Nancy will create a private facebook group where she will post class information\, materials and videos of all the techniques so you can participate via Facebook group or in person at Bow Bench. After receiving your $30 registration fee you will be sent an invite to join the private facebook page. \nPattern is required and is available through Nancy\, please let her know if you need a pattern $40. \nDates: May 16\, 30\, June13\, June 27\, July 11\, August 8\, 22\, Sept 5\, 19 \nCost: Registration fee $30 \nClass Fee:  $30
URL:https://bowbench.com/event/boho-heart-sew-along-6-august-8/
LOCATION:Bow Bench Retreat\, Range Road 260\, Carseland\, Alberta\, T0J 0M0\, Canada
CATEGORIES:Classes
ATTACH;FMTTYPE=image/jpeg:https://bowbench.com/wp-content/uploads/2022/03/boho-heart.jpg
GEO:50.825295;-113.469143
X-APPLE-STRUCTURED-LOCATION;VALUE=URI;X-ADDRESS=Bow Bench Retreat Range Road 260 Carseland Alberta T0J 0M0 Canada;X-APPLE-RADIUS=500;X-TITLE=Range Road 260:geo:-113.469143,50.825295
END:VEVENT
BEGIN:VEVENT
DTSTART;TZID=America/Edmonton:20220809T100000
DTEND;TZID=America/Edmonton:20220809T100000
DTSTAMP:20260424T094316
CREATED:20210314T095347Z
LAST-MODIFIED:20220704T091540Z
UID:10000185-1660039200-1660039200@bowbench.com
SUMMARY:Sew Days -August 9
DESCRIPTION:Join us from 10 – 4 for a day of sewing\, friendship and fun! \n$20/day \n 
URL:https://bowbench.com/event/sew-days-june-30-2-2-4-6-4-7-3-4-4-10-2-5-3/
LOCATION:Bow Bench Retreat\, Range Road 260\, Carseland\, Alberta\, T0J 0M0\, Canada
CATEGORIES:Sew Days
ATTACH;FMTTYPE=image/gif:https://bowbench.com/wp-content/uploads/2019/11/Sew-Day-Square-.gif
GEO:50.825295;-113.469143
X-APPLE-STRUCTURED-LOCATION;VALUE=URI;X-ADDRESS=Bow Bench Retreat Range Road 260 Carseland Alberta T0J 0M0 Canada;X-APPLE-RADIUS=500;X-TITLE=Range Road 260:geo:-113.469143,50.825295
END:VEVENT
END:VCALENDAR