BEGIN:VCALENDAR
VERSION:2.0
PRODID:-//Bow Bench Retreat - ECPv6.15.15//NONSGML v1.0//EN
CALSCALE:GREGORIAN
METHOD:PUBLISH
X-WR-CALNAME:Bow Bench Retreat
X-ORIGINAL-URL:https://bowbench.com
X-WR-CALDESC:Events for Bow Bench Retreat
REFRESH-INTERVAL;VALUE=DURATION:PT1H
X-Robots-Tag:noindex
X-PUBLISHED-TTL:PT1H
BEGIN:VTIMEZONE
TZID:America/Chicago
BEGIN:DAYLIGHT
TZOFFSETFROM:-0600
TZOFFSETTO:-0500
TZNAME:CDT
DTSTART:20220313T080000
END:DAYLIGHT
BEGIN:STANDARD
TZOFFSETFROM:-0500
TZOFFSETTO:-0600
TZNAME:CST
DTSTART:20221106T070000
END:STANDARD
BEGIN:DAYLIGHT
TZOFFSETFROM:-0600
TZOFFSETTO:-0500
TZNAME:CDT
DTSTART:20230312T080000
END:DAYLIGHT
BEGIN:STANDARD
TZOFFSETFROM:-0500
TZOFFSETTO:-0600
TZNAME:CST
DTSTART:20231105T070000
END:STANDARD
BEGIN:DAYLIGHT
TZOFFSETFROM:-0600
TZOFFSETTO:-0500
TZNAME:CDT
DTSTART:20240310T080000
END:DAYLIGHT
BEGIN:STANDARD
TZOFFSETFROM:-0500
TZOFFSETTO:-0600
TZNAME:CST
DTSTART:20241103T070000
END:STANDARD
END:VTIMEZONE
BEGIN:VTIMEZONE
TZID:UTC
BEGIN:STANDARD
TZOFFSETFROM:+0000
TZOFFSETTO:+0000
TZNAME:UTC
DTSTART:20220101T000000
END:STANDARD
END:VTIMEZONE
BEGIN:VEVENT
DTSTART;TZID=America/Chicago:20230827T130000
DTEND;TZID=America/Chicago:20230827T160000
DTSTAMP:20260424T063118
CREATED:20230709T143157Z
LAST-MODIFIED:20230709T143157Z
UID:10000270-1693141200-1693152000@bowbench.com
SUMMARY:Quilters Swap Meet Sunday August 27
DESCRIPTION:Is it time to clean out your sewing room? do you have fabric piling up? Patterns and books you know you’ll never use? Rulers\, tools and notions you have no idea why you bought? Too many Sewing Machines? This event is for you\, “one man’s trash is another man’s treasure” join us for a quilters swap meet to sell\, trade or buy quilting supplies. \nThe swap meet will run from 1 – 4 on Sunday August 27 at Bow Bench Retreat  if you want to sell please register below and pay the $20 fee proceeds from this fee will be put towards charity quilts. If you don’t have items to sell and just want to shop or browse there is no fee. \nThis is an outdoor event\, weather permitting\,  park on our grassy parking lot\, open your trunk\, hatch or tailgate and start selling\,  don’t forget to bring lawn chairs and even a table or picnic blanket to better display your stuff. You will be responsible for your own sales and collecting money etc. any left over items must be taken home with you at the end of the meet. \nIf you have a sewing machine to sell it can be set up inside the shop so it can be plugged in and tested out. \nSnacks and refreshments provided. \n 
URL:https://bowbench.com/event/quilters-swap-meet-sunday-august-27/
LOCATION:Bow Bench Retreat\, Range Road 260\, Carseland\, Alberta\, T0J 0M0\, Canada
CATEGORIES:Special Events
ATTACH;FMTTYPE=image/jpeg:https://bowbench.com/wp-content/uploads/2023/07/clutter-quote.jpeg
GEO:50.825295;-113.469143
X-APPLE-STRUCTURED-LOCATION;VALUE=URI;X-ADDRESS=Bow Bench Retreat Range Road 260 Carseland Alberta T0J 0M0 Canada;X-APPLE-RADIUS=500;X-TITLE=Range Road 260:geo:-113.469143,50.825295
END:VEVENT
BEGIN:VEVENT
DTSTART;TZID=UTC:20230829T100000
DTEND;TZID=UTC:20230829T160000
DTSTAMP:20260424T063118
CREATED:20230428T174518Z
LAST-MODIFIED:20230428T174518Z
UID:10000438-1693303200-1693324800@bowbench.com
SUMMARY:Sew Day Aug 29
DESCRIPTION:Join us from 10 – 4 for a day of sewing\, friendship and fun! \n$20/day \n 
URL:https://bowbench.com/event/sew-day-aug-29/
LOCATION:Bow Bench Retreat\, Range Road 260\, Carseland\, Alberta\, T0J 0M0\, Canada
CATEGORIES:Sew Days
ATTACH;FMTTYPE=image/gif:https://bowbench.com/wp-content/uploads/2019/11/Sew-Day-Square-.gif
GEO:50.825295;-113.469143
X-APPLE-STRUCTURED-LOCATION;VALUE=URI;X-ADDRESS=Bow Bench Retreat Range Road 260 Carseland Alberta T0J 0M0 Canada;X-APPLE-RADIUS=500;X-TITLE=Range Road 260:geo:-113.469143,50.825295
END:VEVENT
BEGIN:VEVENT
DTSTART;VALUE=DATE:20230901
DTEND;VALUE=DATE:20230905
DTSTAMP:20260424T063118
CREATED:20230703T203844Z
LAST-MODIFIED:20230710T214520Z
UID:10000458-1693526400-1693871999@bowbench.com
SUMMARY:Sleep in your own Bed Retreat
DESCRIPTION:Join us for 4 days of uninterrupted creative time\, you are welcome to sleep in your RV or trailer parked in the yard (no electricity or water hook ups) you can use the bathroom and kitchen facilities  in the shop. Or drive home to sleep in the comfort of your own bed every night and return to sew during the day. \nFee:  $ 150 includes coffee\, tea\, water\, snacks and use of facility for 4 days\, meals are on your own\, there is a restaurant in Carseland\, as well as Spear Grass Golf Course. \nCamping fee $10/night
URL:https://bowbench.com/event/sleep-in-your-own-bed-retreat/
LOCATION:Bow Bench Retreat\, Range Road 260\, Carseland\, Alberta\, T0J 0M0\, Canada
CATEGORIES:Events,Sew Days
ATTACH;FMTTYPE=image/jpeg:https://bowbench.com/wp-content/uploads/2021/03/26F6BE03-57F6-403F-BB38-4F96176D5ADA.jpeg
GEO:50.825295;-113.469143
X-APPLE-STRUCTURED-LOCATION;VALUE=URI;X-ADDRESS=Bow Bench Retreat Range Road 260 Carseland Alberta T0J 0M0 Canada;X-APPLE-RADIUS=500;X-TITLE=Range Road 260:geo:-113.469143,50.825295
END:VEVENT
END:VCALENDAR